BEGIN:VCALENDAR
VERSION:2.0
PRODID:-//American Legion Board-Canady Post 54 - ECPv6.15.20//NONSGML v1.0//EN
CALSCALE:GREGORIAN
METHOD:PUBLISH
X-ORIGINAL-URL:https://www.bedford54.com
X-WR-CALDESC:Events for American Legion Board-Canady Post 54
REFRESH-INTERVAL;VALUE=DURATION:PT1H
X-Robots-Tag:noindex
X-PUBLISHED-TTL:PT1H
BEGIN:VTIMEZONE
TZID:America/New_York
BEGIN:DAYLIGHT
TZOFFSETFROM:-0500
TZOFFSETTO:-0400
TZNAME:EDT
DTSTART:20230312T070000
END:DAYLIGHT
BEGIN:STANDARD
TZOFFSETFROM:-0400
TZOFFSETTO:-0500
TZNAME:EST
DTSTART:20231105T060000
END:STANDARD
BEGIN:DAYLIGHT
TZOFFSETFROM:-0500
TZOFFSETTO:-0400
TZNAME:EDT
DTSTART:20240310T070000
END:DAYLIGHT
BEGIN:STANDARD
TZOFFSETFROM:-0400
TZOFFSETTO:-0500
TZNAME:EST
DTSTART:20241103T060000
END:STANDARD
BEGIN:DAYLIGHT
TZOFFSETFROM:-0500
TZOFFSETTO:-0400
TZNAME:EDT
DTSTART:20250309T070000
END:DAYLIGHT
BEGIN:STANDARD
TZOFFSETFROM:-0400
TZOFFSETTO:-0500
TZNAME:EST
DTSTART:20251102T060000
END:STANDARD
END:VTIMEZONE
BEGIN:VEVENT
DTSTART;TZID=America/New_York:20240526T100000
DTEND;TZID=America/New_York:20240526T160000
DTSTAMP:20260422T135453
CREATED:20240522T202906Z
LAST-MODIFIED:20240522T202906Z
UID:213-1716717600-1716739200@www.bedford54.com
SUMMARY:Helmet Collection
DESCRIPTION:Walmart \n\nWE ARE SCHEDULING THE TRADITIONAL MEMORIAL DAY WEEKEND HELMET COLLECTION FOR SATURDAY\, MAY 25 AND SUNDAY\, MAY16.\n\n  \nVOLUNTEERS NEEDED FOR 2 HOUR SHIFTS: \nSUNDAY              WALMART                             10:00-12:00     12:00-2:00       2:00-4:00
URL:https://www.bedford54.com/event/helmet-collection-2/
END:VEVENT
END:VCALENDAR