BEGIN:VCALENDAR
VERSION:2.0
PRODID:-//American Legion Board-Canady Post 54 - ECPv6.15.20//NONSGML v1.0//EN
CALSCALE:GREGORIAN
METHOD:PUBLISH
X-ORIGINAL-URL:https://www.bedford54.com
X-WR-CALDESC:Events for American Legion Board-Canady Post 54
REFRESH-INTERVAL;VALUE=DURATION:PT1H
X-Robots-Tag:noindex
X-PUBLISHED-TTL:PT1H
BEGIN:VTIMEZONE
TZID:America/New_York
BEGIN:DAYLIGHT
TZOFFSETFROM:-0500
TZOFFSETTO:-0400
TZNAME:EDT
DTSTART:20230312T070000
END:DAYLIGHT
BEGIN:STANDARD
TZOFFSETFROM:-0400
TZOFFSETTO:-0500
TZNAME:EST
DTSTART:20231105T060000
END:STANDARD
BEGIN:DAYLIGHT
TZOFFSETFROM:-0500
TZOFFSETTO:-0400
TZNAME:EDT
DTSTART:20240310T070000
END:DAYLIGHT
BEGIN:STANDARD
TZOFFSETFROM:-0400
TZOFFSETTO:-0500
TZNAME:EST
DTSTART:20241103T060000
END:STANDARD
BEGIN:DAYLIGHT
TZOFFSETFROM:-0500
TZOFFSETTO:-0400
TZNAME:EDT
DTSTART:20250309T070000
END:DAYLIGHT
BEGIN:STANDARD
TZOFFSETFROM:-0400
TZOFFSETTO:-0500
TZNAME:EST
DTSTART:20251102T060000
END:STANDARD
END:VTIMEZONE
BEGIN:VEVENT
DTSTART;TZID=America/New_York:20240527T110000
DTEND;TZID=America/New_York:20240527T120000
DTSTAMP:20260422T121809
CREATED:20240522T203257Z
LAST-MODIFIED:20240522T203257Z
UID:216-1716807600-1716811200@www.bedford54.com
SUMMARY:Memorial Day Program
DESCRIPTION:
URL:https://www.bedford54.com/event/memorial-day-program/
LOCATION:D-Day Memorial\, 3 Overlord Cir\, Bedford\, Virginia\, 24523
END:VEVENT
BEGIN:VEVENT
DTSTART;TZID=America/New_York:20240527T140000
DTEND;TZID=America/New_York:20240527T150000
DTSTAMP:20260422T121809
CREATED:20240522T203828Z
LAST-MODIFIED:20240522T203828Z
UID:218-1716818400-1716822000@www.bedford54.com
SUMMARY:Bedford Boys Tribute Ceremony
DESCRIPTION:
URL:https://www.bedford54.com/event/bedford-boys-tribute-ceremony/
LOCATION:Greenwood Cemetary\, 1125 Longwood Ave\, Bedford\, VA\, United States
END:VEVENT
END:VCALENDAR