BEGIN:VCALENDAR
VERSION:2.0
PRODID:-//American Legion Board-Canady Post 54 - ECPv6.15.20//NONSGML v1.0//EN
CALSCALE:GREGORIAN
METHOD:PUBLISH
X-WR-CALNAME:American Legion Board-Canady Post 54
X-ORIGINAL-URL:https://www.bedford54.com
X-WR-CALDESC:Events for American Legion Board-Canady Post 54
REFRESH-INTERVAL;VALUE=DURATION:PT1H
X-Robots-Tag:noindex
X-PUBLISHED-TTL:PT1H
BEGIN:VTIMEZONE
TZID:America/New_York
BEGIN:DAYLIGHT
TZOFFSETFROM:-0500
TZOFFSETTO:-0400
TZNAME:EDT
DTSTART:20240310T070000
END:DAYLIGHT
BEGIN:STANDARD
TZOFFSETFROM:-0400
TZOFFSETTO:-0500
TZNAME:EST
DTSTART:20241103T060000
END:STANDARD
BEGIN:DAYLIGHT
TZOFFSETFROM:-0500
TZOFFSETTO:-0400
TZNAME:EDT
DTSTART:20250309T070000
END:DAYLIGHT
BEGIN:STANDARD
TZOFFSETFROM:-0400
TZOFFSETTO:-0500
TZNAME:EST
DTSTART:20251102T060000
END:STANDARD
BEGIN:DAYLIGHT
TZOFFSETFROM:-0500
TZOFFSETTO:-0400
TZNAME:EDT
DTSTART:20260308T070000
END:DAYLIGHT
BEGIN:STANDARD
TZOFFSETFROM:-0400
TZOFFSETTO:-0500
TZNAME:EST
DTSTART:20261101T060000
END:STANDARD
END:VTIMEZONE
BEGIN:VEVENT
DTSTART;TZID=America/New_York:20250624T190000
DTEND;TZID=America/New_York:20250624T200000
DTSTAMP:20260421T151934
CREATED:20250531T142638Z
LAST-MODIFIED:20250621T132254Z
UID:277-1750791600-1750795200@www.bedford54.com
SUMMARY:Post Monthly Meeting
DESCRIPTION:AGENDA: \n\nReport on the annual District 10 conference here in Bedford that was held on Sunday\, June 8 at the Bedford Moose Lodge.\nA report on our building maintenance remediation status.\nIn July we start a new business and membership year. A review of 2025-2026 year calendar of events.\nBedford Viet Nam Memorial dedication update.\nHonor Guard update\nSemiquintcentenaial -250th Anniversary
URL:https://www.bedford54.com/event/post-monthly-meeting-8/
LOCATION:Post Hall\, 231 West Depot Street\, Bedford\, VA\, 24523\, United States
END:VEVENT
END:VCALENDAR