BEGIN:VCALENDAR
VERSION:2.0
PRODID:-//American Legion Board-Canady Post 54 - ECPv6.15.20//NONSGML v1.0//EN
CALSCALE:GREGORIAN
METHOD:PUBLISH
X-WR-CALNAME:American Legion Board-Canady Post 54
X-ORIGINAL-URL:https://www.bedford54.com
X-WR-CALDESC:Events for American Legion Board-Canady Post 54
REFRESH-INTERVAL;VALUE=DURATION:PT1H
X-Robots-Tag:noindex
X-PUBLISHED-TTL:PT1H
BEGIN:VTIMEZONE
TZID:America/New_York
BEGIN:DAYLIGHT
TZOFFSETFROM:-0500
TZOFFSETTO:-0400
TZNAME:EDT
DTSTART:20240310T070000
END:DAYLIGHT
BEGIN:STANDARD
TZOFFSETFROM:-0400
TZOFFSETTO:-0500
TZNAME:EST
DTSTART:20241103T060000
END:STANDARD
BEGIN:DAYLIGHT
TZOFFSETFROM:-0500
TZOFFSETTO:-0400
TZNAME:EDT
DTSTART:20250309T070000
END:DAYLIGHT
BEGIN:STANDARD
TZOFFSETFROM:-0400
TZOFFSETTO:-0500
TZNAME:EST
DTSTART:20251102T060000
END:STANDARD
BEGIN:DAYLIGHT
TZOFFSETFROM:-0500
TZOFFSETTO:-0400
TZNAME:EDT
DTSTART:20260308T070000
END:DAYLIGHT
BEGIN:STANDARD
TZOFFSETFROM:-0400
TZOFFSETTO:-0500
TZNAME:EST
DTSTART:20261101T060000
END:STANDARD
END:VTIMEZONE
BEGIN:VEVENT
DTSTART;TZID=America/New_York:20251111T140000
DTEND;TZID=America/New_York:20251111T150000
DTSTAMP:20260421T074759
CREATED:20251110T184635Z
LAST-MODIFIED:20251110T184635Z
UID:313-1762869600-1762873200@www.bedford54.com
SUMMARY:FLAG RETIREMENT CEREMONY
DESCRIPTION:The Bedford Army JROTC Wolfpack invites you to attend our flag retirement ceremony on the front lawn of the Susie G. Gibson Science and Technology Center\, November 11th\, 2025\, at 2:00 pm. We will ceremoniously and respectfully retire the pre-folded flags that we have collected from schools around Bedford County. Having this ceremony on Veterans Day is a great opportunity to showcase our gratitude for our veterans and our country.  \nThank you\, \n– Bedford Army JROTC Wolfpack Battalion
URL:https://www.bedford54.com/event/flag-retirement-ceremony/
LOCATION:Susie G. Gibson Science and Technology Center\, 600 Edmund St\, \, VA 24523\, Bedford\, VA\, 24523\, United States
END:VEVENT
END:VCALENDAR