BEGIN:VCALENDAR
VERSION:2.0
PRODID:-//American Legion Board-Canady Post 54 - ECPv6.15.20//NONSGML v1.0//EN
CALSCALE:GREGORIAN
METHOD:PUBLISH
X-WR-CALNAME:American Legion Board-Canady Post 54
X-ORIGINAL-URL:https://www.bedford54.com
X-WR-CALDESC:Events for American Legion Board-Canady Post 54
REFRESH-INTERVAL;VALUE=DURATION:PT1H
X-Robots-Tag:noindex
X-PUBLISHED-TTL:PT1H
BEGIN:VTIMEZONE
TZID:America/New_York
BEGIN:DAYLIGHT
TZOFFSETFROM:-0500
TZOFFSETTO:-0400
TZNAME:EDT
DTSTART:20240310T070000
END:DAYLIGHT
BEGIN:STANDARD
TZOFFSETFROM:-0400
TZOFFSETTO:-0500
TZNAME:EST
DTSTART:20241103T060000
END:STANDARD
BEGIN:DAYLIGHT
TZOFFSETFROM:-0500
TZOFFSETTO:-0400
TZNAME:EDT
DTSTART:20250309T070000
END:DAYLIGHT
BEGIN:STANDARD
TZOFFSETFROM:-0400
TZOFFSETTO:-0500
TZNAME:EST
DTSTART:20251102T060000
END:STANDARD
BEGIN:DAYLIGHT
TZOFFSETFROM:-0500
TZOFFSETTO:-0400
TZNAME:EDT
DTSTART:20260308T070000
END:DAYLIGHT
BEGIN:STANDARD
TZOFFSETFROM:-0400
TZOFFSETTO:-0500
TZNAME:EST
DTSTART:20261101T060000
END:STANDARD
END:VTIMEZONE
BEGIN:VEVENT
DTSTART;TZID=America/New_York:20251125T190000
DTEND;TZID=America/New_York:20251125T200000
DTSTAMP:20260419T143045
CREATED:20250621T132829Z
LAST-MODIFIED:20251120T144455Z
UID:293-1764097200-1764100800@www.bedford54.com
SUMMARY:Post Monthly Meeting
DESCRIPTION:AMERICAN LEGION BEDFORD BOARD CANADY POST 54  \n231 West Depot St.\, Bedford\, Virginia \n540-875-9014 \nNOVEMBER 25\, 2025 \nPOST MEETING \nCALENDAR OF EVENTS \nThrough December 31\, 2025 \nNovember 22              Viet Nam Memorial Dedication                     Bedford Court House             11:00 am \nNovember 25              Post Monthly Meeting                                    Post Hall                                 7:00 pm \nDecember 6                 Bedford Christmas Parade                              Post Hall                                 10:00 am \nDecember 13               Annual Laying of the Wreaths                        Longwood Cemeteries            11:00 am \nPost meetings are held on the 4th Tuesday of each month in the hall at 7:00 p.m. \nPost Executive committee meetings are call meetings \nAGENDA: \n\nWelcome new members.\nSpecial thanks to the Bedford Elks Lodge for hosting the Veterans Day (observed) supper…..AND\nSpecial thanks to the Bedford Moose Lodge for hosting the Veterans Day (observed) breakfast.\nThank you volunteers for a successful helmet collection on Saturday \, November 8 at Food Lion.\nReport on the Bedford Viet Nam War Memorial Dedication\nVolunteers needed for the Annual Bedford Christmas Parade on December 6.\nSemiquintcentenial: We have received approval from the Bedford Town council to conduct the 250th anniversary of United States of America parade on Armed Forces Day; Saturday\, May 16\, 2026. We need to put together an event committee starting now! Preliminary plan outline to be presented.\nWreath Layers needed on December 13 in tribute to our military services.\nA report on our building maintenance remediation progress.\nA review of 2025-2026 year calendar of events.\nJROTC update.\nHonor Guard update\n\n  \nTAPS:         \n  \nYou can now follow post activities\, schedules and updates on our post website. \nhttps://www.bedford54.com                        In Google:    bedford54.com \n  \n  \nBRING A FELLOW VETERAN OUR MEETING \n 
URL:https://www.bedford54.com/event/post-monthly-meeting-10/
LOCATION:Post Hall\, 231 West Depot Street\, Bedford\, VA\, 24523\, United States
END:VEVENT
END:VCALENDAR