BEGIN:VCALENDAR
VERSION:2.0
PRODID:-//American Legion Board-Canady Post 54 - ECPv6.15.20//NONSGML v1.0//EN
CALSCALE:GREGORIAN
METHOD:PUBLISH
X-WR-CALNAME:American Legion Board-Canady Post 54
X-ORIGINAL-URL:https://www.bedford54.com
X-WR-CALDESC:Events for American Legion Board-Canady Post 54
REFRESH-INTERVAL;VALUE=DURATION:PT1H
X-Robots-Tag:noindex
X-PUBLISHED-TTL:PT1H
BEGIN:VTIMEZONE
TZID:America/New_York
BEGIN:DAYLIGHT
TZOFFSETFROM:-0500
TZOFFSETTO:-0400
TZNAME:EDT
DTSTART:20230312T070000
END:DAYLIGHT
BEGIN:STANDARD
TZOFFSETFROM:-0400
TZOFFSETTO:-0500
TZNAME:EST
DTSTART:20231105T060000
END:STANDARD
BEGIN:DAYLIGHT
TZOFFSETFROM:-0500
TZOFFSETTO:-0400
TZNAME:EDT
DTSTART:20240310T070000
END:DAYLIGHT
BEGIN:STANDARD
TZOFFSETFROM:-0400
TZOFFSETTO:-0500
TZNAME:EST
DTSTART:20241103T060000
END:STANDARD
BEGIN:DAYLIGHT
TZOFFSETFROM:-0500
TZOFFSETTO:-0400
TZNAME:EDT
DTSTART:20250309T070000
END:DAYLIGHT
BEGIN:STANDARD
TZOFFSETFROM:-0400
TZOFFSETTO:-0500
TZNAME:EST
DTSTART:20251102T060000
END:STANDARD
END:VTIMEZONE
BEGIN:VEVENT
DTSTART;TZID=America/New_York:20240426T180000
DTEND;TZID=America/New_York:20240426T200000
DTSTAMP:20260422T135424
CREATED:20240425T135415Z
LAST-MODIFIED:20240425T135415Z
UID:205-1714154400-1714161600@www.bedford54.com
SUMMARY:Youth Camp Fundraiser Dinner
DESCRIPTION:All proceeds go to supporting children from our\nsurrounding communities to go to camp for an\nexciting week in July. \nC o n t a c t D e n i s e H u t t o n t o p l a c e\ny o u r o r d e r f o r p i c k u p o n F r i d a y\na t ( 8 0 3 ) 2 4 0 – 973 9 . \nEnter the back of the building from wooden deck.\nThank you for the support.
URL:https://www.bedford54.com/event/youth-camp-fundraiser-dinner/
LOCATION:Elk’s Lodge\, 136 W Main St\, Bedford\, VA\, 24523\, United States
END:VEVENT
BEGIN:VEVENT
DTSTART;TZID=America/New_York:20240427T080000
DTEND;TZID=America/New_York:20240427T170000
DTSTAMP:20260422T135424
CREATED:20240425T134841Z
LAST-MODIFIED:20240425T134841Z
UID:202-1714204800-1714237200@www.bedford54.com
SUMMARY:YARD SALE
DESCRIPTION:ON THURSDAY AND FRIDAY (APRIL 25 & 26) WE WILL HAVE THE POST HALL OPEN FROM 0900 -1200 TO RECEIVE DONATED ITEMS FOR THE SALE. \nWE NEED GOOD SALEABLE ITEMS: \nTOOLS\, ASSORTED POWER\, MACHINING\, GARDEN. ASSORTED HARDWARE\,SEASONAL OUTDOOR GEAR\, FISHING TACKLE\, KITCHEN/HOME TABLE TOP APPLIANCES \, ELECTRONICS\,  TOYS\,  CLOTHES\, BOOKS\, COLLECTIBLES\,  SMALL \,FURNITURE\, ARTIST MATERIALS\, A LOT OF  NICE STUFF. \nWE CAN ACCEPT FIREARMS AND AMMUNITION WHICH WE CONSIGN TO A LICENSED FFI DEALER. \nWE WELCOME VOLUNTEERS TO STAFF THE SALE ON SATURDAY
URL:https://www.bedford54.com/event/yard-sale/
LOCATION:Post Hall\, 231 West Depot Street\, Bedford\, VA\, 24523\, United States
END:VEVENT
END:VCALENDAR