BEGIN:VCALENDAR
VERSION:2.0
PRODID:-//American Legion Board-Canady Post 54 - ECPv6.15.20//NONSGML v1.0//EN
CALSCALE:GREGORIAN
METHOD:PUBLISH
X-WR-CALNAME:American Legion Board-Canady Post 54
X-ORIGINAL-URL:https://www.bedford54.com
X-WR-CALDESC:Events for American Legion Board-Canady Post 54
REFRESH-INTERVAL;VALUE=DURATION:PT1H
X-Robots-Tag:noindex
X-PUBLISHED-TTL:PT1H
BEGIN:VTIMEZONE
TZID:America/New_York
BEGIN:DAYLIGHT
TZOFFSETFROM:-0500
TZOFFSETTO:-0400
TZNAME:EDT
DTSTART:20240310T070000
END:DAYLIGHT
BEGIN:STANDARD
TZOFFSETFROM:-0400
TZOFFSETTO:-0500
TZNAME:EST
DTSTART:20241103T060000
END:STANDARD
BEGIN:DAYLIGHT
TZOFFSETFROM:-0500
TZOFFSETTO:-0400
TZNAME:EDT
DTSTART:20250309T070000
END:DAYLIGHT
BEGIN:STANDARD
TZOFFSETFROM:-0400
TZOFFSETTO:-0500
TZNAME:EST
DTSTART:20251102T060000
END:STANDARD
BEGIN:DAYLIGHT
TZOFFSETFROM:-0500
TZOFFSETTO:-0400
TZNAME:EDT
DTSTART:20260308T070000
END:DAYLIGHT
BEGIN:STANDARD
TZOFFSETFROM:-0400
TZOFFSETTO:-0500
TZNAME:EST
DTSTART:20261101T060000
END:STANDARD
END:VTIMEZONE
BEGIN:VEVENT
DTSTART;TZID=America/New_York:20250301T090000
DTEND;TZID=America/New_York:20250301T170000
DTSTAMP:20260421T185835
CREATED:20250220T180356Z
LAST-MODIFIED:20250228T141609Z
UID:259-1740819600-1740848400@www.bedford54.com
SUMMARY:JROTC Raider Challenge
DESCRIPTION:VOLUNTEERS NEEDED \nThe JROTC Annual Raider Challenge hosted by our Bedford JROTC cadet battalion is rescheduled for Saturday\, March 1 at the National D-Day Memorial. Volunteers are needed to support this multi activity event starting at 0700. Volunteer help would greatly appreciated.
URL:https://www.bedford54.com/event/jrotc-raider-challenge/
LOCATION:D-Day Memorial\, 3 Overlord Cir\, Bedford\, Virginia\, 24523
END:VEVENT
BEGIN:VEVENT
DTSTART;TZID=America/New_York:20250325T190000
DTEND;TZID=America/New_York:20250325T200000
DTSTAMP:20260421T185835
CREATED:20250220T180457Z
LAST-MODIFIED:20250220T180457Z
UID:261-1742929200-1742932800@www.bedford54.com
SUMMARY:Post Monthly Meeting
DESCRIPTION:
URL:https://www.bedford54.com/event/post-monthly-meeting-6/
LOCATION:Post Hall\, 231 West Depot Street\, Bedford\, VA\, 24523\, United States
END:VEVENT
END:VCALENDAR