BEGIN:VCALENDAR
VERSION:2.0
PRODID:-//American Legion Board-Canady Post 54 - ECPv6.15.20//NONSGML v1.0//EN
CALSCALE:GREGORIAN
METHOD:PUBLISH
X-ORIGINAL-URL:https://www.bedford54.com
X-WR-CALDESC:Events for American Legion Board-Canady Post 54
REFRESH-INTERVAL;VALUE=DURATION:PT1H
X-Robots-Tag:noindex
X-PUBLISHED-TTL:PT1H
BEGIN:VTIMEZONE
TZID:America/New_York
BEGIN:DAYLIGHT
TZOFFSETFROM:-0500
TZOFFSETTO:-0400
TZNAME:EDT
DTSTART:20240310T070000
END:DAYLIGHT
BEGIN:STANDARD
TZOFFSETFROM:-0400
TZOFFSETTO:-0500
TZNAME:EST
DTSTART:20241103T060000
END:STANDARD
BEGIN:DAYLIGHT
TZOFFSETFROM:-0500
TZOFFSETTO:-0400
TZNAME:EDT
DTSTART:20250309T070000
END:DAYLIGHT
BEGIN:STANDARD
TZOFFSETFROM:-0400
TZOFFSETTO:-0500
TZNAME:EST
DTSTART:20251102T060000
END:STANDARD
BEGIN:DAYLIGHT
TZOFFSETFROM:-0500
TZOFFSETTO:-0400
TZNAME:EDT
DTSTART:20260308T070000
END:DAYLIGHT
BEGIN:STANDARD
TZOFFSETFROM:-0400
TZOFFSETTO:-0500
TZNAME:EST
DTSTART:20261101T060000
END:STANDARD
END:VTIMEZONE
BEGIN:VEVENT
DTSTART;TZID=America/New_York:20250422T190000
DTEND;TZID=America/New_York:20250422T200000
DTSTAMP:20260421T171842
CREATED:20250220T180553Z
LAST-MODIFIED:20250220T180553Z
UID:263-1745348400-1745352000@www.bedford54.com
SUMMARY:Post Monthly Meeting
DESCRIPTION:
URL:https://www.bedford54.com/event/post-monthly-meeting-7/
LOCATION:Post Hall\, 231 West Depot Street\, Bedford\, VA\, 24523\, United States
END:VEVENT
BEGIN:VEVENT
DTSTART;TZID=America/New_York:20250423T160000
DTEND;TZID=America/New_York:20250423T170000
DTSTAMP:20260421T171842
CREATED:20250220T180713Z
LAST-MODIFIED:20250220T180810Z
UID:265-1745424000-1745427600@www.bedford54.com
SUMMARY:Boys State & Girls State Interviews
DESCRIPTION:April 23 & 24
URL:https://www.bedford54.com/event/boys-state-girls-state-interviews-3/
LOCATION:Post Hall\, 231 West Depot Street\, Bedford\, VA\, 24523\, United States
END:VEVENT
BEGIN:VEVENT
DTSTART;TZID=America/New_York:20250424T160000
DTEND;TZID=America/New_York:20250424T170000
DTSTAMP:20260421T171842
CREATED:20250220T180744Z
LAST-MODIFIED:20250220T180744Z
UID:267-1745510400-1745514000@www.bedford54.com
SUMMARY:Boys State & Girls State Interviews
DESCRIPTION:
URL:https://www.bedford54.com/event/boys-state-girls-state-interviews-4/
LOCATION:Post Hall\, 231 West Depot Street\, Bedford\, VA\, 24523\, United States
END:VEVENT
END:VCALENDAR