BEGIN:VCALENDAR
VERSION:2.0
PRODID:-//American Legion Board-Canady Post 54 - ECPv6.15.20//NONSGML v1.0//EN
CALSCALE:GREGORIAN
METHOD:PUBLISH
X-ORIGINAL-URL:https://www.bedford54.com
X-WR-CALDESC:Events for American Legion Board-Canady Post 54
REFRESH-INTERVAL;VALUE=DURATION:PT1H
X-Robots-Tag:noindex
X-PUBLISHED-TTL:PT1H
BEGIN:VTIMEZONE
TZID:America/New_York
BEGIN:DAYLIGHT
TZOFFSETFROM:-0500
TZOFFSETTO:-0400
TZNAME:EDT
DTSTART:20240310T070000
END:DAYLIGHT
BEGIN:STANDARD
TZOFFSETFROM:-0400
TZOFFSETTO:-0500
TZNAME:EST
DTSTART:20241103T060000
END:STANDARD
BEGIN:DAYLIGHT
TZOFFSETFROM:-0500
TZOFFSETTO:-0400
TZNAME:EDT
DTSTART:20250309T070000
END:DAYLIGHT
BEGIN:STANDARD
TZOFFSETFROM:-0400
TZOFFSETTO:-0500
TZNAME:EST
DTSTART:20251102T060000
END:STANDARD
BEGIN:DAYLIGHT
TZOFFSETFROM:-0500
TZOFFSETTO:-0400
TZNAME:EDT
DTSTART:20260308T070000
END:DAYLIGHT
BEGIN:STANDARD
TZOFFSETFROM:-0400
TZOFFSETTO:-0500
TZNAME:EST
DTSTART:20261101T060000
END:STANDARD
END:VTIMEZONE
BEGIN:VEVENT
DTSTART;TZID=America/New_York:20251028T190000
DTEND;TZID=America/New_York:20251028T200000
DTSTAMP:20260421T074808
CREATED:20250621T132728Z
LAST-MODIFIED:20251022T180426Z
UID:291-1761678000-1761681600@www.bedford54.com
SUMMARY:Post Monthly Meeting
DESCRIPTION:AGENDA: \n\nWelcome new members.\nSpecial guest: A fellow Legionnaire and WWII veteran who just turned 100. Bill was a Navy fighter pilot. After service in the Navy\, he worked in the aerospace industry and worked on the lunar landing module.\nReport on the October District 10 conference.\nSemiquintcentenial: We have received approval from the Bedford Town council to conduct the 250th anniversary of United States of America parade on Armed Forces Day; Saturday\, May 16\, 2026. We need to put together an event committee starting now! Preliminary plan outline to be presented.\nA report on our building maintenance remediation progress.\nA review of 2025-2026 year calendar of events.\nWe fell below the 2023-2024 year target in renewals and new members. We need to focus on recruiting new members. We have plenty of promotional materials. There are over 5\,000 veterans in Bedford County\, a good recruiting base.\nWe need volunteers to staff our Veterans Day helmet collection on Saturday\, November 8 at Bedford Food Lion from 9:00am to 5:00pm in 2 hour shifts.\nBedford Viet Nam Memorial dedication November 22 update.\nJROTC update.\nHonor Guard update\n\n  \nTAPS:        Bob VandeLinde \n 
URL:https://www.bedford54.com/event/post-monthly-meeting-9/
LOCATION:Post Hall\, 231 West Depot Street\, Bedford\, VA\, 24523\, United States
END:VEVENT
END:VCALENDAR